BEGIN:VCALENDAR
VERSION:2.0
PRODID:-//Plone.org//NONSGML plone.app.event//EN
X-WR-TIMEZONE:Europe/Lisbon
BEGIN:VEVENT
SUMMARY:Dia da Humanidade e Cidadania
DTSTART;VALUE=DATE:20231213
DTEND;VALUE=DATE:20231214
DTSTAMP;VALUE=DATE-TIME:20260421T200931Z
UID:e7bc412d3d38496da730548302bda740@zope
CONTACT:Grupo de Informática
CREATED;VALUE=DATE-TIME:20231212T193602Z
DESCRIPTION:Reciclar é ajudar!
LAST-MODIFIED;VALUE=DATE-TIME:20250617T113205Z
LOCATION:Entrada do Bloco E
URL:https://www.alpoente.gov.pt/agrupamento/eventos/dia-da-humanidade-e-ci
 dadania
END:VEVENT
END:VCALENDAR
