BEGIN:VCALENDAR
VERSION:2.0
PRODID:-//Plone.org//NONSGML plone.app.event//EN
X-WR-TIMEZONE:Europe/Lisbon
BEGIN:VEVENT
SUMMARY:Devolução de manuais e recolha de passes
DTSTART;VALUE=DATE:20210628
DTEND;VALUE=DATE:20210713
DTSTAMP;VALUE=DATE-TIME:20260422T124852Z
UID:01c68f50d03b44c7b93baf7b41377366@zope
ATTENDEE;CN="Encarregados de educação";ROLE=REQ-PARTICIPANT:Encarregados
  de educação
CREATED;VALUE=DATE-TIME:20211229T115129Z
DESCRIPTION:Horário de devolução de manuais escolares e recolha de pass
 es escolares
LAST-MODIFIED;VALUE=DATE-TIME:20250617T113204Z
LOCATION:E. S. de Albufeira
URL:https://www.alpoente.gov.pt/agrupamento/eventos/devolucao-de-manuais-e
 -recolha-de-passes
END:VEVENT
END:VCALENDAR
