BEGIN:VCALENDAR
VERSION:2.0
PRODID:-//Plone.org//NONSGML plone.app.event//EN
X-WR-TIMEZONE:Europe/Lisbon
BEGIN:VEVENT
SUMMARY:Debate Temático
DTSTART;TZID=Europe/Lisbon;VALUE=DATE-TIME:20240321T143000
DTSTAMP;VALUE=DATE-TIME:20260421T201142Z
UID:e025bbe34fba4d41a5093b663fa4c7cb@zope
CONTACT:https://www.youtube.com/@jajuvalbuhera1508
CREATED;VALUE=DATE-TIME:20240318T124643Z
DESCRIPTION:Tema: Ambiente
LAST-MODIFIED;VALUE=DATE-TIME:20250617T113204Z
LOCATION:Salão Nobre da Câmara Municipal de Albufeira
URL:https://www.alpoente.gov.pt/agrupamento/eventos/debate-tematico
END:VEVENT
BEGIN:VTIMEZONE
TZID:Europe/Lisbon
X-LIC-LOCATION:Europe/Lisbon
BEGIN:STANDARD
DTSTART;VALUE=DATE-TIME:20231029T010000
TZNAME:WET
TZOFFSETFROM:+0100
TZOFFSETTO:+0000
END:STANDARD
END:VTIMEZONE
END:VCALENDAR
