BEGIN:VCALENDAR
VERSION:2.0
PRODID:-//Plone.org//NONSGML plone.app.event//EN
X-WR-TIMEZONE:Europe/Lisbon
BEGIN:VEVENT
SUMMARY:Consulta de prova
DTSTART;TZID=Europe/Lisbon;VALUE=DATE-TIME:20230717T080000
DTEND;TZID=Europe/Lisbon;VALUE=DATE-TIME:20230718T180000
DTSTAMP;VALUE=DATE-TIME:20260421T195236Z
UID:ceb2004c34794d949ae7465a0af7519e@zope
CONTACT:Secretariado de Exames\, exames2023@alpoente.org\, https://www.dge
 .mec.pt/modelos
CREATED;VALUE=DATE-TIME:20230717T122956Z
DESCRIPTION:Pedidos de consulta de prova
LAST-MODIFIED;VALUE=DATE-TIME:20250617T113204Z
URL:https://www.alpoente.gov.pt/agrupamento/eventos/consulta-de-prova
END:VEVENT
BEGIN:VTIMEZONE
TZID:Europe/Lisbon
X-LIC-LOCATION:Europe/Lisbon
BEGIN:DAYLIGHT
DTSTART;VALUE=DATE-TIME:20230326T020000
TZNAME:WEST
TZOFFSETFROM:+0000
TZOFFSETTO:+0100
END:DAYLIGHT
END:VTIMEZONE
END:VCALENDAR
