BEGIN:VCALENDAR
VERSION:2.0
PRODID:-//Plone.org//NONSGML plone.app.event//EN
X-WR-TIMEZONE:Europe/Lisbon
BEGIN:VEVENT
SUMMARY:Arte a Poente
DTSTART;VALUE=DATE:20220506
DTEND;VALUE=DATE:20220528
DTSTAMP;VALUE=DATE-TIME:20260422T010014Z
UID:3fa16cb472c347bd992162ab991d2779@zope
CREATED;VALUE=DATE-TIME:20220506T230333Z
DESCRIPTION:Exposição JI e Ensino Secundário do Agrupamento de Escolas 
 de Albufeira Poente
LAST-MODIFIED;VALUE=DATE-TIME:20250617T113204Z
LOCATION:Galeria Municipal João Bailote
URL:https://www.alpoente.gov.pt/agrupamento/eventos/arte-a-poente
END:VEVENT
END:VCALENDAR
