BEGIN:VCALENDAR
VERSION:2.0
PRODID:-//Plone.org//NONSGML plone.app.event//EN
X-WR-TIMEZONE:Europe/Lisbon
BEGIN:VEVENT
SUMMARY:Afixação das pautas das Provas de Equivalência à Frequência d
 o Secundário — 2.ª Fase
DTSTART;VALUE=DATE:20220805
DTEND;VALUE=DATE:20220806
DTSTAMP;VALUE=DATE-TIME:20260422T051614Z
UID:504163d09da9418e915a6a0f1fda5ed5@zope
CATEGORIES:exames
CONTACT:https://www.alpoente.gov.pt/info/exames-e-provas
CREATED;VALUE=DATE-TIME:20220614T202551Z
LAST-MODIFIED;VALUE=DATE-TIME:20250617T113204Z
URL:https://www.alpoente.gov.pt/agrupamento/eventos/afixacao-pautas-pef-se
 cundario-2a-fase
END:VEVENT
END:VCALENDAR
