BEGIN:VCALENDAR
VERSION:2.0
PRODID:-//Plone.org//NONSGML plone.app.event//EN
X-WR-TIMEZONE:Europe/Lisbon
BEGIN:VEVENT
SUMMARY:Afixação das pautas das Provas de Equivalência à Frequência d
 o Secundário — 1.ª Fase
DTSTART;VALUE=DATE:20220719
DTEND;VALUE=DATE:20220720
DTSTAMP;VALUE=DATE-TIME:20260422T010013Z
UID:76ffd80f7771462fbf3260d19b474aca@zope
CATEGORIES:exames
CONTACT:https://www.alpoente.gov.pt/info/exames-e-provas
CREATED;VALUE=DATE-TIME:20220614T202431Z
LAST-MODIFIED;VALUE=DATE-TIME:20250617T113204Z
URL:https://www.alpoente.gov.pt/agrupamento/eventos/afixacao-pautas-pef-se
 cundario-1a-fase
END:VEVENT
END:VCALENDAR
