BEGIN:VCALENDAR
VERSION:2.0
PRODID:-//Plone.org//NONSGML plone.app.event//EN
X-WR-TIMEZONE:Europe/Lisbon
BEGIN:VEVENT
SUMMARY:Afixação dos horários e das turmas
DTSTART;TZID=Europe/Lisbon;VALUE=DATE-TIME:20210910T100000
DTEND;TZID=Europe/Lisbon;VALUE=DATE-TIME:20210922T190000
DTSTAMP;VALUE=DATE-TIME:20260422T033021Z
UID:ed7df8e6d1cf4348a805910cb57ff80d@zope
CREATED;VALUE=DATE-TIME:20210922T221607Z
LAST-MODIFIED;VALUE=DATE-TIME:20250617T113204Z
LOCATION:Todas as escolas do agrupamento
URL:https://www.alpoente.gov.pt/agrupamento/eventos/afixacao-dos-horarios-
 e-das-turmas
END:VEVENT
BEGIN:VTIMEZONE
TZID:Europe/Lisbon
X-LIC-LOCATION:Europe/Lisbon
BEGIN:DAYLIGHT
DTSTART;VALUE=DATE-TIME:20210328T020000
TZNAME:WEST
TZOFFSETFROM:+0000
TZOFFSETTO:+0100
END:DAYLIGHT
END:VTIMEZONE
END:VCALENDAR
