BEGIN:VCALENDAR
VERSION:2.0
PRODID:-//Plone.org//NONSGML plone.app.event//EN
X-WR-TIMEZONE:Europe/Lisbon
BEGIN:VEVENT
SUMMARY:Afixação de Turmas
DTSTART;VALUE=DATE:20220905
DTEND;VALUE=DATE:20220906
DTSTAMP;VALUE=DATE-TIME:20260421T200727Z
UID:ced31387756a41779d2d207fbfe1098c@zope
CREATED;VALUE=DATE-TIME:20220907T200630Z
LAST-MODIFIED;VALUE=DATE-TIME:20250617T113204Z
URL:https://www.alpoente.gov.pt/agrupamento/eventos/afixacao-de-turmas
END:VEVENT
END:VCALENDAR
