BEGIN:VCALENDAR
VERSION:2.0
PRODID:-//Plone.org//NONSGML plone.app.event//EN
X-WR-TIMEZONE:Europe/Lisbon
BEGIN:VEVENT
SUMMARY:Afixação de resultados da 1.ª fase dos Exames Nacionais
DTSTART;VALUE=DATE:20220719
DTEND;VALUE=DATE:20220720
DTSTAMP;VALUE=DATE-TIME:20260422T051701Z
UID:2f365a801cf54b8a96d6f5d5bc50b2db@zope
CREATED;VALUE=DATE-TIME:20220713T102537Z
LAST-MODIFIED;VALUE=DATE-TIME:20250617T113204Z
LOCATION:Escola Secundária de Albufeira
URL:https://www.alpoente.gov.pt/agrupamento/eventos/afixacao-de-resultados
 -da-1-a-fase-dos-exames-nacionais
END:VEVENT
END:VCALENDAR
