BEGIN:VCALENDAR
VERSION:2.0
PRODID:-//Plone.org//NONSGML plone.app.event//EN
X-WR-TIMEZONE:Europe/Lisbon
BEGIN:VEVENT
SUMMARY:Afixação de horários — 1.º Ciclo
DTSTART;VALUE=DATE:20220913
DTEND;VALUE=DATE:20220914
DTSTAMP;VALUE=DATE-TIME:20260422T010358Z
UID:4bb99c1c05c74408a06faf223651abc9@zope
CREATED;VALUE=DATE-TIME:20220907T201018Z
LAST-MODIFIED;VALUE=DATE-TIME:20250617T113204Z
URL:https://www.alpoente.gov.pt/agrupamento/eventos/afixacao-de-horarios-1
END:VEVENT
END:VCALENDAR
